BEGIN:VCALENDAR
VERSION:2.0
PRODID:-//Squarespace Inc/Squarespace 6//v6//EN
BEGIN:VEVENT
UID:5b8c57e74d7a9cd1f8eaeb38@squarespace.com
DTSTAMP:20180902T222918Z
DTSTART:20180909T120000Z
DTEND:20180909T170000Z
SUMMARY:Car Boot Sale
GEO:-37.73309;175.273524
LOCATION:Limelight Dance Academy\, 144 Rototuna Road\, Hamilton\, New Zeala
 nd
END:VEVENT
END:VCALENDAR
