BEGIN:VCALENDAR
VERSION:2.0
PRODID:-//Squarespace Inc/Squarespace 6//v6//EN
BEGIN:VEVENT
UID:5b061e94f950b7cb32c3008c@squarespace.com
DTSTAMP:20180821T043759Z
DTSTART:20181001T023000Z
DTEND:20181001T033000Z
SUMMARY:Last Day Term 3
END:VEVENT
END:VCALENDAR
