BEGIN:VCALENDAR
VERSION:2.0
PRODID:-//Squarespace Inc/Squarespace 6//v6//EN
BEGIN:VEVENT
UID:5b4e75af352f535c58bf0700@squarespace.com
DTSTAMP:20180820T234517Z
DTSTART:20180902T140000Z
DTEND:20180902T200000Z
SUMMARY:Big Jazz Weekend
GEO:-37.73309;175.273524
LOCATION:Limelight Dance Academy\, 144 Rototuna Road\, Hamilton\, Waikato\, 
 3210\, New Zealand
END:VEVENT
END:VCALENDAR
