BEGIN:VCALENDAR
VERSION:2.0
PRODID:-//Squarespace Inc/Squarespace 6//v6//EN
BEGIN:VEVENT
UID:5b4e76c703ce64502e1e04f0@squarespace.com
DTSTAMP:20180823T004444Z
DTSTART:20180824T200000Z
DTEND:20180826T210000Z
SUMMARY:Peter Boyes Visit (1/2)
GEO:40.720756;-74.000761
LOCATION:Limelight Dance Academy\, 144 Rototuna Road\, Hamilton\, Waikato\, 
 3210\, New Zealand
END:VEVENT
END:VCALENDAR
