BEGIN:VCALENDAR
VERSION:2.0
PRODID:-//Squarespace Inc/Squarespace 6//v6//EN
BEGIN:VEVENT
UID:5b592c55352f5370d404489b@squarespace.com
DTSTAMP:20180820T025240Z
DTSTART:20180819T130000Z
DTEND:20180819T230000Z
SUMMARY:Costume Fittings - Vocational Ballet\, Jazz\, Tap\, Hip Hop & Lyric
 al
GEO:-37.789825;175.292369
LOCATION:That's A Wrap\, 510 Grey Street\, Hamilton\, Waikato\, 3216\, New 
 Zealand
END:VEVENT
END:VCALENDAR
