BEGIN:VCALENDAR
VERSION:2.0
PRODID:-//Squarespace Inc/Squarespace 6//v6//EN
BEGIN:VEVENT
UID:5b592ccbf950b7844b20ce47@squarespace.com
DTSTAMP:20180821T043641Z
DTSTART:20180826T130000Z
DTEND:20180826T233000Z
SUMMARY:Costume Fittings - Graded Ballet & Contemporary
GEO:-37.789825;175.292369
LOCATION:That's A Wrap\, 510 Grey Street\, Hamilton\, Waikato\, 3216\, New 
 Zealand
END:VEVENT
END:VCALENDAR
