BEGIN:VCALENDAR
VERSION:2.0
PRODID:-//Squarespace Inc/Squarespace 6//v6//EN
BEGIN:VEVENT
UID:5b4d1754f950b7504269c1d8@squarespace.com
DTSTAMP:20180716T221525Z
DTSTART:20180729T130000Z
DTEND:20180729T193000Z
SUMMARY:Vocational Ballet Extra Lessons
END:VEVENT
END:VCALENDAR
