BEGIN:VCALENDAR
VERSION:2.0
PRODID:-//Squarespace Inc/Squarespace 6//v6//EN
BEGIN:VEVENT
UID:5b42b7a52b6a28b390c8af13@squarespace.com
DTSTAMP:20180716T214747Z
DTSTART:20180731T020000Z
DTEND:20180807T030000Z
SUMMARY:Graded Ballet Exams
END:VEVENT
END:VCALENDAR
