BEGIN:VCALENDAR
VERSION:2.0
PRODID:-//Squarespace Inc/Squarespace 6//v6//EN
BEGIN:VEVENT
UID:5b061550575d1f26582aeced@squarespace.com
DTSTAMP:20180524T013009Z
DTSTART:20180724T013000Z
DTEND:20180724T023000Z
SUMMARY:Start of Term 3
END:VEVENT
END:VCALENDAR
