BEGIN:VCALENDAR
VERSION:2.0
PRODID:-//Squarespace Inc/Squarespace 6//v6//EN
BEGIN:VEVENT
UID:5be10bbcb8a045a7d7199b9c@squarespace.com
DTSTAMP:20181106T034612Z
DTSTART:20181209T160000Z
DTEND:20181209T160000Z
SUMMARY:Hamilton Christmas Parade
END:VEVENT
END:VCALENDAR
