BEGIN:VCALENDAR
VERSION:2.0
PRODID:-//Squarespace Inc/Squarespace 6//v6//EN
BEGIN:VEVENT
UID:5be10cf5cd836607a19824d1@squarespace.com
DTSTAMP:20181106T034012Z
DTSTART:20181206T220000Z
DTEND:20181206T233000Z
SUMMARY:Christmas Parade Costume Fitting
GEO:-37.789825;175.292369
LOCATION:That's A Wrap\, 510 Grey Street\, Hamilton\, Waikato\, 3216\, New 
 Zealand
END:VEVENT
END:VCALENDAR
