BEGIN:VCALENDAR
VERSION:2.0
PRODID:-//Squarespace Inc/Squarespace 6//v6//EN
BEGIN:VEVENT
UID:5bdfa8d5cd836658b4d445be@squarespace.com
DTSTAMP:20181105T022045Z
DTSTART:20181220T220000Z
DTEND:20181220T230000Z
SUMMARY:Show Recording Pick Up
GEO:-37.73309;175.273524
LOCATION:Limelight Dance Academy\, 144 Rototuna Road\, Hamilton\, Waikato\, 
 3210\, New Zealand
END:VEVENT
END:VCALENDAR
