BEGIN:VCALENDAR
VERSION:2.0
PRODID:-//Squarespace Inc/Squarespace 6//v6//EN
BEGIN:VEVENT
UID:5c0dd9aa21c67c5de4e04f63@squarespace.com
DTSTAMP:20181210T031303Z
DTSTART:20181216T200000Z
DTEND:20181216T210000Z
SUMMARY:Harcourts Christmas Tree Drive Performance
GEO:-37.800541;175.27154
LOCATION:Innes Common
END:VEVENT
END:VCALENDAR
