BEGIN:VCALENDAR
VERSION:2.0
PRODID:-//Squarespace Inc/Squarespace 6//v6//EN
BEGIN:VEVENT
UID:5c0dd96e2b6a28f9e793b4c8@squarespace.com
DTSTAMP:20181210T031234Z
DTSTART:20181216T170000Z
DTEND:20181216T180000Z
SUMMARY:Centre Place Christmas Performance
GEO:-37.785826;175.280266
LOCATION:Centre Place\, 501 Victoria Street\, Hamilton\, Waikato\, 3204\, N
 ew Zealand
END:VEVENT
END:VCALENDAR
