BEGIN:VCALENDAR
VERSION:2.0
PRODID:-//Squarespace Inc/Squarespace 6//v6//EN
BEGIN:VEVENT
UID:5b2add518a922d899c3cfc2e@squarespace.com
DTSTAMP:20181031T221217Z
DTSTART:20181126T223000Z
DTEND:20181129T233000Z
SUMMARY:Production Week **No regular classes**
END:VEVENT
END:VCALENDAR
