BEGIN:VCALENDAR
VERSION:2.0
PRODID:-//Squarespace Inc/Squarespace 6//v6//EN
BEGIN:VEVENT
UID:5b2adb06352f53486ded3bca@squarespace.com
DTSTAMP:20181031T220504Z
DTSTART:20181111T183000Z
DTEND:20181112T001500Z
SUMMARY:Dress Rehearsal
GEO:-37.716406;175.2626
LOCATION:Rototuna Junior High School\, Kimbrae Drive\, Hamilton\, Waikato\, 
 3281\, New Zealand
END:VEVENT
END:VCALENDAR
